BEGIN:VCALENDAR
VERSION:2.0
PRODID:-//TC Riders Snowmobile Club - ECPv6.15.20//NONSGML v1.0//EN
CALSCALE:GREGORIAN
METHOD:PUBLISH
X-ORIGINAL-URL:https://tcriders.com
X-WR-CALDESC:Events for TC Riders Snowmobile Club
REFRESH-INTERVAL;VALUE=DURATION:PT1H
X-Robots-Tag:noindex
X-PUBLISHED-TTL:PT1H
BEGIN:VTIMEZONE
TZID:America/New_York
BEGIN:DAYLIGHT
TZOFFSETFROM:-0500
TZOFFSETTO:-0400
TZNAME:EDT
DTSTART:20210314T070000
END:DAYLIGHT
BEGIN:STANDARD
TZOFFSETFROM:-0400
TZOFFSETTO:-0500
TZNAME:EST
DTSTART:20211107T060000
END:STANDARD
BEGIN:DAYLIGHT
TZOFFSETFROM:-0500
TZOFFSETTO:-0400
TZNAME:EDT
DTSTART:20220313T070000
END:DAYLIGHT
BEGIN:STANDARD
TZOFFSETFROM:-0400
TZOFFSETTO:-0500
TZNAME:EST
DTSTART:20221106T060000
END:STANDARD
BEGIN:DAYLIGHT
TZOFFSETFROM:-0500
TZOFFSETTO:-0400
TZNAME:EDT
DTSTART:20230312T070000
END:DAYLIGHT
BEGIN:STANDARD
TZOFFSETFROM:-0400
TZOFFSETTO:-0500
TZNAME:EST
DTSTART:20231105T060000
END:STANDARD
BEGIN:DAYLIGHT
TZOFFSETFROM:-0500
TZOFFSETTO:-0400
TZNAME:EDT
DTSTART:20240310T070000
END:DAYLIGHT
BEGIN:STANDARD
TZOFFSETFROM:-0400
TZOFFSETTO:-0500
TZNAME:EST
DTSTART:20241103T060000
END:STANDARD
BEGIN:DAYLIGHT
TZOFFSETFROM:-0500
TZOFFSETTO:-0400
TZNAME:EDT
DTSTART:20250309T070000
END:DAYLIGHT
BEGIN:STANDARD
TZOFFSETFROM:-0400
TZOFFSETTO:-0500
TZNAME:EST
DTSTART:20251102T060000
END:STANDARD
BEGIN:DAYLIGHT
TZOFFSETFROM:-0500
TZOFFSETTO:-0400
TZNAME:EDT
DTSTART:20260308T070000
END:DAYLIGHT
BEGIN:STANDARD
TZOFFSETFROM:-0400
TZOFFSETTO:-0500
TZNAME:EST
DTSTART:20261101T060000
END:STANDARD
END:VTIMEZONE
BEGIN:VEVENT
DTSTART;VALUE=DATE:20251001
DTEND;VALUE=DATE:20251101
DTSTAMP:20260424T115948
CREATED:20241120T215714Z
LAST-MODIFIED:20241120T215714Z
UID:1779-1759276800-1761955199@tcriders.com
SUMMARY:October Daily Raffle - Tickets will be on sale in July
DESCRIPTION:More details to come
URL:https://tcriders.com/event/october-daily-raffle-tickets-will-be-on-sale-in-july
END:VEVENT
BEGIN:VEVENT
DTSTART;TZID=America/New_York:20250506T190000
DTEND;TZID=America/New_York:20250506T203000
DTSTAMP:20260424T115948
CREATED:20241120T223230Z
LAST-MODIFIED:20241120T223230Z
UID:1793-1746558000-1746563400@tcriders.com
SUMMARY:Monthly BOD Meeting (members welcome) - May
DESCRIPTION:Monthly Board of Directors meeting\, members are welcome.
URL:https://tcriders.com/event/monthly-bod-meeting-members-welcome-may
LOCATION:American Legion Arthur S. Moran Post 66\, 2422 Moran Post Road\, Camden\, NY\, 13316\, United States
END:VEVENT
BEGIN:VEVENT
DTSTART;VALUE=DATE:20250501
DTEND;VALUE=DATE:20250601
DTSTAMP:20260424T115948
CREATED:20241120T215519Z
LAST-MODIFIED:20241120T215519Z
UID:1777-1746057600-1748735999@tcriders.com
SUMMARY:May Daily Raffle - Tickets will be on sale in January
DESCRIPTION:More details to come
URL:https://tcriders.com/event/may-daily-raffle-tickets-will-be-on-sale-in-january
END:VEVENT
BEGIN:VEVENT
DTSTART;TZID=America/New_York:20250401T190000
DTEND;TZID=America/New_York:20250401T203000
DTSTAMP:20260424T115948
CREATED:20241120T223201Z
LAST-MODIFIED:20241120T223201Z
UID:1792-1743534000-1743539400@tcriders.com
SUMMARY:Monthly BOD Meeting (members welcome) - April
DESCRIPTION:Monthly Board of Directors meeting\, members are welcome.
URL:https://tcriders.com/event/monthly-bod-meeting-members-welcome-april
LOCATION:American Legion Arthur S. Moran Post 66\, 2422 Moran Post Road\, Camden\, NY\, 13316\, United States
END:VEVENT
BEGIN:VEVENT
DTSTART;TZID=America/New_York:20250304T190000
DTEND;TZID=America/New_York:20250304T203000
DTSTAMP:20260424T115948
CREATED:20241120T223126Z
LAST-MODIFIED:20241120T223126Z
UID:1791-1741114800-1741120200@tcriders.com
SUMMARY:Monthly BOD Meeting (members welcome) - March
DESCRIPTION:Monthly Board of Directors meeting\, members are welcome.
URL:https://tcriders.com/event/monthly-bod-meeting-members-welcome-march
LOCATION:American Legion Arthur S. Moran Post 66\, 2422 Moran Post Road\, Camden\, NY\, 13316\, United States
END:VEVENT
BEGIN:VEVENT
DTSTART;VALUE=DATE:20250216
DTEND;VALUE=DATE:20250217
DTSTAMP:20260424T115948
CREATED:20241120T223709Z
LAST-MODIFIED:20241120T215955Z
UID:1767-1739664000-1739750399@tcriders.com
SUMMARY:Groomers' Day Rides - Feb. 16th
DESCRIPTION:Locations TBA  – Weather Permitting we will offer trail rides in our Tucker Sno-Cat’s
URL:https://tcriders.com/event/groomers-day-rides-feb-16th
END:VEVENT
BEGIN:VEVENT
DTSTART;TZID=America/New_York:20250204T190000
DTEND;TZID=America/New_York:20250204T203000
DTSTAMP:20260424T115948
CREATED:20241120T223056Z
LAST-MODIFIED:20241120T223056Z
UID:1790-1738695600-1738701000@tcriders.com
SUMMARY:Monthly BOD Meeting (members welcome) - February
DESCRIPTION:Monthly Board of Directors meeting\, members are welcome.
URL:https://tcriders.com/event/monthly-bod-meeting-members-welcome-february
LOCATION:American Legion Arthur S. Moran Post 66\, 2422 Moran Post Road\, Camden\, NY\, 13316\, United States
END:VEVENT
BEGIN:VEVENT
DTSTART;VALUE=DATE:20250124
DTEND;VALUE=DATE:20250202
DTSTAMP:20260424T115948
CREATED:20241120T223344Z
LAST-MODIFIED:20241120T220114Z
UID:1763-1737676800-1738454399@tcriders.com
SUMMARY:2025 Poker Run
DESCRIPTION:Card Drawing Saturday Feb 1st @  Camden’s A. Moran Post 66 American Legion\, 2422 Moran Post Rd. \nMinimum is 5 stops and you have a week to visit up to 15 of our sponsors.
URL:https://tcriders.com/event/2025-poker-run
LOCATION:American Legion Arthur S. Moran Post 66\, 2422 Moran Post Road\, Camden\, NY\, 13316\, United States
END:VEVENT
BEGIN:VEVENT
DTSTART;VALUE=DATE:20250119
DTEND;VALUE=DATE:20250120
DTSTAMP:20260424T115948
CREATED:20241120T223554Z
LAST-MODIFIED:20241120T220041Z
UID:1765-1737244800-1737331199@tcriders.com
SUMMARY:Groomers' Day Rides - Jan. 19th
DESCRIPTION:Locations TBA  – Weather Permitting we will offer trail rides in our Tucker Sno-Cat’s
URL:https://tcriders.com/event/groomers-day-rides-jan-19
END:VEVENT
BEGIN:VEVENT
DTSTART;TZID=America/New_York:20250107T190000
DTEND;TZID=America/New_York:20250107T203000
DTSTAMP:20260424T115948
CREATED:20241120T223003Z
LAST-MODIFIED:20241120T223003Z
UID:1789-1736276400-1736281800@tcriders.com
SUMMARY:Monthly BOD Meeting (members welcome) - January
DESCRIPTION:Monthly Board of Directors meeting\, members are welcome.
URL:https://tcriders.com/event/monthly-bod-meeting-members-welcome-january
LOCATION:American Legion Arthur S. Moran Post 66\, 2422 Moran Post Road\, Camden\, NY\, 13316\, United States
END:VEVENT
BEGIN:VEVENT
DTSTART;TZID=America/New_York:20241214T090000
DTEND;TZID=America/New_York:20241214T170000
DTSTAMP:20260424T115948
CREATED:20241120T181921Z
LAST-MODIFIED:20241121T091124Z
UID:1756-1734166800-1734195600@tcriders.com
SUMMARY:Youth Safety (10+) & Snowmobile Education Class
DESCRIPTION:This is the session at the club’s location.  You must RSVP (online only) with NYS Parks Dept.  using this link:\nhttps://www.register-ed.com/events/view/220786 \nYou can also browse other offerings at:\nhttps://www.register-ed.com/programs/new_york/251-new-york-snowmobile-safety-course \n 
URL:https://tcriders.com/event/youth-safety-10-snowmobile-education-class
LOCATION:TC Riders Groomer Barn (right of JLS building)\, 10646 Wolcott Hill Road\, Camden\, NY\, 13316\, United States
END:VEVENT
BEGIN:VEVENT
DTSTART;TZID=America/New_York:20241203T190000
DTEND;TZID=America/New_York:20241203T203000
DTSTAMP:20260424T115948
CREATED:20241120T222956Z
LAST-MODIFIED:20241120T222956Z
UID:1788-1733252400-1733257800@tcriders.com
SUMMARY:Monthly BOD Meeting (members welcome) - December
DESCRIPTION:Monthly Board of Directors meeting\, members are welcome.
URL:https://tcriders.com/event/monthly-bod-meeting-members-welcome-december
LOCATION:American Legion Arthur S. Moran Post 66\, 2422 Moran Post Road\, Camden\, NY\, 13316\, United States
END:VEVENT
BEGIN:VEVENT
DTSTART;TZID=America/New_York:20231205T180000
DTEND;TZID=America/New_York:20231205T193000
DTSTAMP:20260424T115948
CREATED:20230108T233845Z
LAST-MODIFIED:20230108T233845Z
UID:1663-1701799200-1701804600@tcriders.com
SUMMARY:December 2023 Board of Directors Meeting
DESCRIPTION:The Board of Director’s meeting is held at the Camden American Legion Post 66. \nMeetings are the first Tuesday of each month.  Meeting begins at 7:00 pm. \nAll Club members are welcome to attend. 
URL:https://tcriders.com/event/december-2023-board-of-directors-meeting
LOCATION:American Legion Arthur S. Moran Post 66\, 2422 Moran Post Road\, Camden\, NY\, 13316\, United States
END:VEVENT
BEGIN:VEVENT
DTSTART;TZID=America/New_York:20231106T180000
DTEND;TZID=America/New_York:20231106T193000
DTSTAMP:20260424T115948
CREATED:20230108T233722Z
LAST-MODIFIED:20231017T223633Z
UID:1661-1699293600-1699299000@tcriders.com
SUMMARY:November 2023 Board of Directors Meeting - Changed to MONDAY
DESCRIPTION:Exceptionally this month\, the meeting will take place on MONDAY due to avoid conflicting with Tuesday’s elections. \nThe Board of Director’s meeting is held at the Camden American Legion Post 66. \nMeetings are the first Tuesday of each month.  Meeting begins at 7:00 pm. \nAll Club members are welcome to attend. 
URL:https://tcriders.com/event/november-2023-board-of-directors-meeting
LOCATION:American Legion Arthur S. Moran Post 66\, 2422 Moran Post Road\, Camden\, NY\, 13316\, United States
END:VEVENT
BEGIN:VEVENT
DTSTART;TZID=America/New_York:20231003T180000
DTEND;TZID=America/New_York:20231003T193000
DTSTAMP:20260424T115948
CREATED:20230108T233508Z
LAST-MODIFIED:20230108T233508Z
UID:1656-1696356000-1696361400@tcriders.com
SUMMARY:October 2023 Board of Directors Meeting
DESCRIPTION:The Board of Director’s meeting is held at the Camden American Legion Post 66. \nMeetings are the first Tuesday of each month.  Meeting begins at 7:00 pm. \nAll Club members are welcome to attend. 
URL:https://tcriders.com/event/october-2023-board-of-directors-meeting
LOCATION:American Legion Arthur S. Moran Post 66\, 2422 Moran Post Road\, Camden\, NY\, 13316\, United States
END:VEVENT
BEGIN:VEVENT
DTSTART;TZID=America/New_York:20230905T180000
DTEND;TZID=America/New_York:20230905T193000
DTSTAMP:20260424T115948
CREATED:20230108T233310Z
LAST-MODIFIED:20230108T233602Z
UID:1654-1693936800-1693942200@tcriders.com
SUMMARY:September 2023 Board of Directors Meeting
DESCRIPTION:The Board of Director’s meeting is held at the Camden American Legion Post 66. \nMeetings are the first Tuesday of each month.  Meeting begins at 7:00 pm. \nAll Club members are welcome to attend. 
URL:https://tcriders.com/event/september-2023-board-of-directors-meeting
LOCATION:American Legion Arthur S. Moran Post 66\, 2422 Moran Post Road\, Camden\, NY\, 13316\, United States
END:VEVENT
BEGIN:VEVENT
DTSTART;TZID=America/New_York:20230620T180000
DTEND;TZID=America/New_York:20230620T190000
DTSTAMP:20260424T115948
CREATED:20230611T103355Z
LAST-MODIFIED:20230611T103624Z
UID:1700-1687284000-1687287600@tcriders.com
SUMMARY:Special General Membership Meeting
DESCRIPTION:A special general membership meeting will be held for the purpose of discussing the purchase of new trail equipment for the club.  As the purchase is greater than $20\,000.00 a general membership meeting is required. \n 
URL:https://tcriders.com/event/special-general-membership-meeting
LOCATION:American Legion Arthur S. Moran Post 66\, 2422 Moran Post Road\, Camden\, NY\, 13316\, United States
CATEGORIES:Club Meeting
END:VEVENT
BEGIN:VEVENT
DTSTART;TZID=America/New_York:20230502T180000
DTEND;TZID=America/New_York:20230502T193000
DTSTAMP:20260424T115948
CREATED:20230108T233145Z
LAST-MODIFIED:20230108T233546Z
UID:1652-1683050400-1683055800@tcriders.com
SUMMARY:May 2023 Board of Directors Meeting
DESCRIPTION:The Board of Director’s meeting is held at the Camden American Legion Post 66. \nMeetings are the first Tuesday of each month.  Meeting begins at 7:00 pm. \nAll Club members are welcome to attend. 
URL:https://tcriders.com/event/may-2023-board-of-directors-meeting
LOCATION:American Legion Arthur S. Moran Post 66\, 2422 Moran Post Road\, Camden\, NY\, 13316\, United States
END:VEVENT
BEGIN:VEVENT
DTSTART;TZID=America/New_York:20230404T180000
DTEND;TZID=America/New_York:20230404T193000
DTSTAMP:20260424T115948
CREATED:20230108T233009Z
LAST-MODIFIED:20230108T233531Z
UID:1650-1680631200-1680636600@tcriders.com
SUMMARY:April 2023 Board of Directors Meeting
DESCRIPTION:The Board of Director’s meeting is held at the Camden American Legion Post 66. \nMeetings are the first Tuesday of each month.  Meeting begins at 7:00 pm. \nAll Club members are welcome to attend. 
URL:https://tcriders.com/event/april-2023-board-of-directors-meeting
LOCATION:American Legion Arthur S. Moran Post 66\, 2422 Moran Post Road\, Camden\, NY\, 13316\, United States
END:VEVENT
BEGIN:VEVENT
DTSTART;TZID=America/New_York:20230314T180000
DTEND;TZID=America/New_York:20230314T193000
DTSTAMP:20260424T115948
CREATED:20230220T215714Z
LAST-MODIFIED:20230220T215714Z
UID:1634-1678816800-1678822200@tcriders.com
SUMMARY:2023 TC Riders Snowmobile Club Annual Business Meeting
DESCRIPTION:The 2023 TC Riders Snowmobile Club Annual Business Meeting and Elections will be held at the Mahogany Ridge. \nMeeting time is 7:00 pm.  Meeting is open to all members of TC Riders Snowmobile Club. \nAll members are eligible to vote in the annual elections.
URL:https://tcriders.com/event/2023-tc-riders-snowmobile-club-annual-business-meeting
LOCATION:Mahogany Ridge\, 10825 Taberg Florence Road\, Camden\, NY\, 13316\, United States
END:VEVENT
BEGIN:VEVENT
DTSTART;TZID=America/New_York:20230314T170000
DTEND;TZID=America/New_York:20230314T180000
DTSTAMP:20260424T115948
CREATED:20230105T020807Z
LAST-MODIFIED:20230220T215452Z
UID:1622-1678813200-1678816800@tcriders.com
SUMMARY:March 2023 Board of Directors Meeting
DESCRIPTION:The Board of Director’s meeting is held at the Camden American Legion Post 66. \nMeetings are the first Tuesday of each month.  Meeting begins at 7:00 pm. \nAll Club members are welcome to attend. 
URL:https://tcriders.com/event/march-2023-board-of-directors-meeting
LOCATION:Mahogany Ridge\, 10825 Taberg Florence Road\, Camden\, NY\, 13316\, United States
END:VEVENT
BEGIN:VEVENT
DTSTART;TZID=America/New_York:20230225T070000
DTEND;TZID=America/New_York:20230225T150000
DTSTAMP:20260424T115948
CREATED:20230108T232105Z
LAST-MODIFIED:20230108T232105Z
UID:1644-1677308400-1677337200@tcriders.com
SUMMARY:Florence Hotel Vintage & Classic Snow Machine Show
DESCRIPTION:The Florence Hotel will be hosting a Classic & Vintage Snow Machine Show on February 25th 2023.  Breakfast will be available at the hotel the day of the event.  Bring the family and get a good look at how snow machines have progressed throughout the years.  Family fun for all ages. \nThere will be 9 classes for snow machines to be registered in. \nRegistrations are $10.00 per sled or a maximum registration fee of $30.00 for unlimited entries per person. \nRegistrations will begin at 8:00 am. \nJudging to take place late morning. \nLoose Gravel will also be playing at the Hotel later in the day.
URL:https://tcriders.com/event/florence-hotel-vintage-classic-snow-machine-show
LOCATION:Allen’s Florence Hotel\, 11940 Osceola Road\, Camden\, NY\, 13316\, United States
END:VEVENT
BEGIN:VEVENT
DTSTART;TZID=America/New_York:20230219T110000
DTEND;TZID=America/New_York:20230219T140000
DTSTAMP:20260424T115948
CREATED:20230108T232753Z
LAST-MODIFIED:20230116T204049Z
UID:1648-1676804400-1676815200@tcriders.com
SUMMARY:2023 Groomer Day - February 19th 2023
DESCRIPTION:TC Riders Snowmobile Club and The Canden American Legion Post 66 will host a Groomer Day event on Sunday February 19th\, 2023 at the American Legion (Snow Permitting). \nThe event is to allow the snowmobiling community and public to meet the groomer operators and experience firsthand what it is like to ride in a groomer. \nCome out and meet the Groomers and support our sponsors! Get to see first-hand how the trails are smoothed and prepared for safe and enjoyable riding experience. There will be fun for everyone of all ages.
URL:https://tcriders.com/event/2023-groomer-day-february-19th-2023
LOCATION:American Legion Arthur S. Moran Post 66\, 2422 Moran Post Road\, Camden\, NY\, 13316\, United States
END:VEVENT
BEGIN:VEVENT
DTSTART;TZID=America/New_York:20230207T180000
DTEND;TZID=America/New_York:20230207T193000
DTSTAMP:20260424T115948
CREATED:20230105T020539Z
LAST-MODIFIED:20230108T234922Z
UID:1620-1675792800-1675798200@tcriders.com
SUMMARY:February 2023 Board of Directors Meeting
DESCRIPTION:The Board of Director’s meeting is held at the Camden American Legion Post 66. \nMeetings are the first Tuesday of each month.  Meeting begins at 7:00 pm. \nAll Club members are welcome to attend.  
URL:https://tcriders.com/event/february-2023-board-of-directors-meeting
LOCATION:American Legion Arthur S. Moran Post 66\, 2422 Moran Post Road\, Camden\, NY\, 13316\, United States
END:VEVENT
BEGIN:VEVENT
DTSTART;VALUE=DATE:20230126
DTEND;VALUE=DATE:20230205
DTSTAMP:20260424T115948
CREATED:20230108T231340Z
LAST-MODIFIED:20230116T211157Z
UID:1629-1674774000-1675551599@tcriders.com
SUMMARY:TC Riders 35th Annual Poker Run
DESCRIPTION:TC Riders annual Poker Run will take place from January 27th\, 2023\, to February 4th\, 2023. \nPoker Stamp Cards will be available from any of the Sponsors listed below beginning January 27th 2023.  Poker hands will be drawn at the Allen’s Florence Hotel on February 4th\, 2023\, from 5:00 pm to 9:00 pm. \nParticipating Sponsors: \nThe Station – Oswego Street              Osceola Hotel               Rusty Roof \nAllen’s Florence Hotel                         Osceola Outpost           Kasoag Lake Tavern & Grill \nBucks Family Restaurant                    Cedar Pines                  Grape & Grog \nThe Gathering Place                            The Good Life              The  Altmar Hotel \nCamden American Legion                   Mahogany Ridge          On the Rocks – Taberg \nTaberg American Legion                      The Hayloft                  The Cheese Factory            \n Redfield Square                                  Legacy Grill@ McConnellsville Golf Course
URL:https://tcriders.com/event/tc-riders-35th-annual-poker-run
LOCATION:Allen’s Florence Hotel\, 11940 Osceola Road\, Camden\, NY\, 13316\, United States
END:VEVENT
BEGIN:VEVENT
DTSTART;TZID=America/New_York:20230115T110000
DTEND;TZID=America/New_York:20230115T140000
DTSTAMP:20260424T115948
CREATED:20230108T232311Z
LAST-MODIFIED:20230108T232311Z
UID:1638-1673780400-1673791200@tcriders.com
SUMMARY:2023 Groomer Day - January 15th 2023
DESCRIPTION:TC Riders Snowmobile Club and The Allen’s Florence Hotel will host a Groomer Day event on Sunday January 15th 2023 at the Florence Hotel (Snow Permitting). \nThe event is to allow the snowmobiling community and public to meet the groomer operators and experience firsthand what it is like to ride in a groomer. \nCome out and meet the Groomers! Get to see first-hand how the trails are smoothed and prepared for safe and enjoyable riding experience. There will be fun and specials.
URL:https://tcriders.com/event/2023-groomer-day-january-15th-2023
LOCATION:Allen’s Florence Hotel\, 11940 Osceola Road\, Camden\, NY\, 13316\, United States
END:VEVENT
BEGIN:VEVENT
DTSTART;VALUE=DATE:20230103
DTEND;VALUE=DATE:20230501
DTSTAMP:20260424T115948
CREATED:20230105T021605Z
LAST-MODIFIED:20230105T023948Z
UID:1624-1672786800-1682895599@tcriders.com
SUMMARY:SPRING 2023 TC Riders Gun/Gift Card or Cash Fund Raiser
DESCRIPTION:The TC Riders Spring Gun/Gift Card or Cash Fund Raiser will begin on 01 May 2023. \n31 days of chances to win.  Tickets are available for purchase now.  Tickets are $20.00. \nWinning numbers are based on the NYS Lottery Daily Evening numbers. \nFor tickets contact tcriders@tcrider.com or call Jack (315) 430-6145 or Donna (315) 245-1487. \nFall 2023 Fund Raiser tickets will be available this summer. \n  \nThe fundraising events help defray trail and groomer maintenance expenses.  The proceeds from the raffles go into maintaining and improving our trail system.
URL:https://tcriders.com/event/spring-2023-tc-riders-gun-gift-card-or-cash-fund-raiser
LOCATION:10644 Wolcott Hill Road\, 10644 Wolcott Hill Road\, Camden\, NY\, 13316\, United States
CATEGORIES:Latest Club News
END:VEVENT
BEGIN:VEVENT
DTSTART;TZID=America/New_York:20221206T180000
DTEND;TZID=America/New_York:20221206T193000
DTSTAMP:20260424T115948
CREATED:20220613T213135Z
LAST-MODIFIED:20220613T213135Z
UID:1570-1670349600-1670355000@tcriders.com
SUMMARY:December 2022 Board of Director's Meeting
DESCRIPTION:The Board of Director’s meeting is held at the Camden American Legion Post 66. \nMeetings are the first Tuesday of each month.  Meeting begins at 7:00 pm. \nAll Club members are welcome to attend.  
URL:https://tcriders.com/event/december-2022-board-of-directors-meeting
LOCATION:10644 Wolcott Hill Road\, 10644 Wolcott Hill Road\, Camden\, NY\, 13316\, United States
END:VEVENT
BEGIN:VEVENT
DTSTART;TZID=America/New_York:20221102T180000
DTEND;TZID=America/New_York:20221102T193000
DTSTAMP:20260424T115948
CREATED:20220613T213019Z
LAST-MODIFIED:20220613T213019Z
UID:1568-1667412000-1667417400@tcriders.com
SUMMARY:November 2022 Board of Director's Meeting
DESCRIPTION:The Board of Director’s meeting is held at the Camden American Legion Post 66. \nMeetings are the first Tuesday of each month.  Meeting begins at 7:00 pm. \nAll Club members are welcome to attend.  
URL:https://tcriders.com/event/november-2022-board-of-directors-meeting
LOCATION:American Legion Arthur S. Moran Post 66\, 2422 Moran Post Road\, Camden\, NY\, 13316\, United States
END:VEVENT
BEGIN:VEVENT
DTSTART;TZID=America/New_York:20221004T180000
DTEND;TZID=America/New_York:20221004T193000
DTSTAMP:20260424T115948
CREATED:20220613T212849Z
LAST-MODIFIED:20220613T212849Z
UID:1566-1664906400-1664911800@tcriders.com
SUMMARY:October 2022 Board of Director's Meeting
DESCRIPTION:The Board of Director’s meeting is held at the Camden American Legion Post 66. \nMeetings are the first Tuesday of each month.  Meeting begins at 7:00 pm. \nAll Club members are welcome to attend.  
URL:https://tcriders.com/event/october-2022-board-of-directors-meeting
LOCATION:American Legion Arthur S. Moran Post 66\, 2422 Moran Post Road\, Camden\, NY\, 13316\, United States
END:VEVENT
END:VCALENDAR