BEGIN:VCALENDAR
VERSION:2.0
PRODID:-//TC Riders Snowmobile Club - ECPv6.15.20//NONSGML v1.0//EN
CALSCALE:GREGORIAN
METHOD:PUBLISH
X-WR-CALNAME:TC Riders Snowmobile Club
X-ORIGINAL-URL:https://tcriders.com
X-WR-CALDESC:Events for TC Riders Snowmobile Club
REFRESH-INTERVAL;VALUE=DURATION:PT1H
X-Robots-Tag:noindex
X-PUBLISHED-TTL:PT1H
BEGIN:VTIMEZONE
TZID:America/New_York
BEGIN:DAYLIGHT
TZOFFSETFROM:-0500
TZOFFSETTO:-0400
TZNAME:EDT
DTSTART:20180311T070000
END:DAYLIGHT
BEGIN:STANDARD
TZOFFSETFROM:-0400
TZOFFSETTO:-0500
TZNAME:EST
DTSTART:20181104T060000
END:STANDARD
BEGIN:DAYLIGHT
TZOFFSETFROM:-0500
TZOFFSETTO:-0400
TZNAME:EDT
DTSTART:20190310T070000
END:DAYLIGHT
BEGIN:STANDARD
TZOFFSETFROM:-0400
TZOFFSETTO:-0500
TZNAME:EST
DTSTART:20191103T060000
END:STANDARD
BEGIN:DAYLIGHT
TZOFFSETFROM:-0500
TZOFFSETTO:-0400
TZNAME:EDT
DTSTART:20200308T070000
END:DAYLIGHT
BEGIN:STANDARD
TZOFFSETFROM:-0400
TZOFFSETTO:-0500
TZNAME:EST
DTSTART:20201101T060000
END:STANDARD
BEGIN:DAYLIGHT
TZOFFSETFROM:-0500
TZOFFSETTO:-0400
TZNAME:EDT
DTSTART:20210314T070000
END:DAYLIGHT
BEGIN:STANDARD
TZOFFSETFROM:-0400
TZOFFSETTO:-0500
TZNAME:EST
DTSTART:20211107T060000
END:STANDARD
BEGIN:DAYLIGHT
TZOFFSETFROM:-0500
TZOFFSETTO:-0400
TZNAME:EDT
DTSTART:20220313T070000
END:DAYLIGHT
BEGIN:STANDARD
TZOFFSETFROM:-0400
TZOFFSETTO:-0500
TZNAME:EST
DTSTART:20221106T060000
END:STANDARD
BEGIN:DAYLIGHT
TZOFFSETFROM:-0500
TZOFFSETTO:-0400
TZNAME:EDT
DTSTART:20230312T070000
END:DAYLIGHT
BEGIN:STANDARD
TZOFFSETFROM:-0400
TZOFFSETTO:-0500
TZNAME:EST
DTSTART:20231105T060000
END:STANDARD
BEGIN:DAYLIGHT
TZOFFSETFROM:-0500
TZOFFSETTO:-0400
TZNAME:EDT
DTSTART:20240310T070000
END:DAYLIGHT
BEGIN:STANDARD
TZOFFSETFROM:-0400
TZOFFSETTO:-0500
TZNAME:EST
DTSTART:20241103T060000
END:STANDARD
END:VTIMEZONE
BEGIN:VEVENT
DTSTART;TZID=America/New_York:20230314T170000
DTEND;TZID=America/New_York:20230314T180000
DTSTAMP:20260424T145334
CREATED:20230105T020807Z
LAST-MODIFIED:20230220T215452Z
UID:1622-1678813200-1678816800@tcriders.com
SUMMARY:March 2023 Board of Directors Meeting
DESCRIPTION:The Board of Director’s meeting is held at the Camden American Legion Post 66. \nMeetings are the first Tuesday of each month.  Meeting begins at 7:00 pm. \nAll Club members are welcome to attend. 
URL:https://tcriders.com/event/march-2023-board-of-directors-meeting
LOCATION:Mahogany Ridge\, 10825 Taberg Florence Road\, Camden\, NY\, 13316\, United States
END:VEVENT
BEGIN:VEVENT
DTSTART;TZID=America/New_York:20230225T070000
DTEND;TZID=America/New_York:20230225T150000
DTSTAMP:20260424T145334
CREATED:20230108T232105Z
LAST-MODIFIED:20230108T232105Z
UID:1644-1677308400-1677337200@tcriders.com
SUMMARY:Florence Hotel Vintage & Classic Snow Machine Show
DESCRIPTION:The Florence Hotel will be hosting a Classic & Vintage Snow Machine Show on February 25th 2023.  Breakfast will be available at the hotel the day of the event.  Bring the family and get a good look at how snow machines have progressed throughout the years.  Family fun for all ages. \nThere will be 9 classes for snow machines to be registered in. \nRegistrations are $10.00 per sled or a maximum registration fee of $30.00 for unlimited entries per person. \nRegistrations will begin at 8:00 am. \nJudging to take place late morning. \nLoose Gravel will also be playing at the Hotel later in the day.
URL:https://tcriders.com/event/florence-hotel-vintage-classic-snow-machine-show
LOCATION:Allen’s Florence Hotel\, 11940 Osceola Road\, Camden\, NY\, 13316\, United States
END:VEVENT
BEGIN:VEVENT
DTSTART;TZID=America/New_York:20230219T110000
DTEND;TZID=America/New_York:20230219T140000
DTSTAMP:20260424T145334
CREATED:20230108T232753Z
LAST-MODIFIED:20230116T204049Z
UID:1648-1676804400-1676815200@tcriders.com
SUMMARY:2023 Groomer Day - February 19th 2023
DESCRIPTION:TC Riders Snowmobile Club and The Canden American Legion Post 66 will host a Groomer Day event on Sunday February 19th\, 2023 at the American Legion (Snow Permitting). \nThe event is to allow the snowmobiling community and public to meet the groomer operators and experience firsthand what it is like to ride in a groomer. \nCome out and meet the Groomers and support our sponsors! Get to see first-hand how the trails are smoothed and prepared for safe and enjoyable riding experience. There will be fun for everyone of all ages.
URL:https://tcriders.com/event/2023-groomer-day-february-19th-2023
LOCATION:American Legion Arthur S. Moran Post 66\, 2422 Moran Post Road\, Camden\, NY\, 13316\, United States
END:VEVENT
BEGIN:VEVENT
DTSTART;TZID=America/New_York:20230207T180000
DTEND;TZID=America/New_York:20230207T193000
DTSTAMP:20260424T145334
CREATED:20230105T020539Z
LAST-MODIFIED:20230108T234922Z
UID:1620-1675792800-1675798200@tcriders.com
SUMMARY:February 2023 Board of Directors Meeting
DESCRIPTION:The Board of Director’s meeting is held at the Camden American Legion Post 66. \nMeetings are the first Tuesday of each month.  Meeting begins at 7:00 pm. \nAll Club members are welcome to attend.  
URL:https://tcriders.com/event/february-2023-board-of-directors-meeting
LOCATION:American Legion Arthur S. Moran Post 66\, 2422 Moran Post Road\, Camden\, NY\, 13316\, United States
END:VEVENT
BEGIN:VEVENT
DTSTART;VALUE=DATE:20230126
DTEND;VALUE=DATE:20230205
DTSTAMP:20260424T145334
CREATED:20230108T231340Z
LAST-MODIFIED:20230116T211157Z
UID:1629-1674774000-1675551599@tcriders.com
SUMMARY:TC Riders 35th Annual Poker Run
DESCRIPTION:TC Riders annual Poker Run will take place from January 27th\, 2023\, to February 4th\, 2023. \nPoker Stamp Cards will be available from any of the Sponsors listed below beginning January 27th 2023.  Poker hands will be drawn at the Allen’s Florence Hotel on February 4th\, 2023\, from 5:00 pm to 9:00 pm. \nParticipating Sponsors: \nThe Station – Oswego Street              Osceola Hotel               Rusty Roof \nAllen’s Florence Hotel                         Osceola Outpost           Kasoag Lake Tavern & Grill \nBucks Family Restaurant                    Cedar Pines                  Grape & Grog \nThe Gathering Place                            The Good Life              The  Altmar Hotel \nCamden American Legion                   Mahogany Ridge          On the Rocks – Taberg \nTaberg American Legion                      The Hayloft                  The Cheese Factory            \n Redfield Square                                  Legacy Grill@ McConnellsville Golf Course
URL:https://tcriders.com/event/tc-riders-35th-annual-poker-run
LOCATION:Allen’s Florence Hotel\, 11940 Osceola Road\, Camden\, NY\, 13316\, United States
END:VEVENT
BEGIN:VEVENT
DTSTART;TZID=America/New_York:20230115T110000
DTEND;TZID=America/New_York:20230115T140000
DTSTAMP:20260424T145334
CREATED:20230108T232311Z
LAST-MODIFIED:20230108T232311Z
UID:1638-1673780400-1673791200@tcriders.com
SUMMARY:2023 Groomer Day - January 15th 2023
DESCRIPTION:TC Riders Snowmobile Club and The Allen’s Florence Hotel will host a Groomer Day event on Sunday January 15th 2023 at the Florence Hotel (Snow Permitting). \nThe event is to allow the snowmobiling community and public to meet the groomer operators and experience firsthand what it is like to ride in a groomer. \nCome out and meet the Groomers! Get to see first-hand how the trails are smoothed and prepared for safe and enjoyable riding experience. There will be fun and specials.
URL:https://tcriders.com/event/2023-groomer-day-january-15th-2023
LOCATION:Allen’s Florence Hotel\, 11940 Osceola Road\, Camden\, NY\, 13316\, United States
END:VEVENT
BEGIN:VEVENT
DTSTART;VALUE=DATE:20230103
DTEND;VALUE=DATE:20230501
DTSTAMP:20260424T145334
CREATED:20230105T021605Z
LAST-MODIFIED:20230105T023948Z
UID:1624-1672786800-1682895599@tcriders.com
SUMMARY:SPRING 2023 TC Riders Gun/Gift Card or Cash Fund Raiser
DESCRIPTION:The TC Riders Spring Gun/Gift Card or Cash Fund Raiser will begin on 01 May 2023. \n31 days of chances to win.  Tickets are available for purchase now.  Tickets are $20.00. \nWinning numbers are based on the NYS Lottery Daily Evening numbers. \nFor tickets contact tcriders@tcrider.com or call Jack (315) 430-6145 or Donna (315) 245-1487. \nFall 2023 Fund Raiser tickets will be available this summer. \n  \nThe fundraising events help defray trail and groomer maintenance expenses.  The proceeds from the raffles go into maintaining and improving our trail system.
URL:https://tcriders.com/event/spring-2023-tc-riders-gun-gift-card-or-cash-fund-raiser
LOCATION:10644 Wolcott Hill Road\, 10644 Wolcott Hill Road\, Camden\, NY\, 13316\, United States
CATEGORIES:Latest Club News
END:VEVENT
BEGIN:VEVENT
DTSTART;TZID=America/New_York:20221206T180000
DTEND;TZID=America/New_York:20221206T193000
DTSTAMP:20260424T145334
CREATED:20220613T213135Z
LAST-MODIFIED:20220613T213135Z
UID:1570-1670349600-1670355000@tcriders.com
SUMMARY:December 2022 Board of Director's Meeting
DESCRIPTION:The Board of Director’s meeting is held at the Camden American Legion Post 66. \nMeetings are the first Tuesday of each month.  Meeting begins at 7:00 pm. \nAll Club members are welcome to attend.  
URL:https://tcriders.com/event/december-2022-board-of-directors-meeting
LOCATION:10644 Wolcott Hill Road\, 10644 Wolcott Hill Road\, Camden\, NY\, 13316\, United States
END:VEVENT
BEGIN:VEVENT
DTSTART;TZID=America/New_York:20221102T180000
DTEND;TZID=America/New_York:20221102T193000
DTSTAMP:20260424T145334
CREATED:20220613T213019Z
LAST-MODIFIED:20220613T213019Z
UID:1568-1667412000-1667417400@tcriders.com
SUMMARY:November 2022 Board of Director's Meeting
DESCRIPTION:The Board of Director’s meeting is held at the Camden American Legion Post 66. \nMeetings are the first Tuesday of each month.  Meeting begins at 7:00 pm. \nAll Club members are welcome to attend.  
URL:https://tcriders.com/event/november-2022-board-of-directors-meeting
LOCATION:American Legion Arthur S. Moran Post 66\, 2422 Moran Post Road\, Camden\, NY\, 13316\, United States
END:VEVENT
BEGIN:VEVENT
DTSTART;TZID=America/New_York:20221004T180000
DTEND;TZID=America/New_York:20221004T193000
DTSTAMP:20260424T145334
CREATED:20220613T212849Z
LAST-MODIFIED:20220613T212849Z
UID:1566-1664906400-1664911800@tcriders.com
SUMMARY:October 2022 Board of Director's Meeting
DESCRIPTION:The Board of Director’s meeting is held at the Camden American Legion Post 66. \nMeetings are the first Tuesday of each month.  Meeting begins at 7:00 pm. \nAll Club members are welcome to attend.  
URL:https://tcriders.com/event/october-2022-board-of-directors-meeting
LOCATION:American Legion Arthur S. Moran Post 66\, 2422 Moran Post Road\, Camden\, NY\, 13316\, United States
END:VEVENT
BEGIN:VEVENT
DTSTART;TZID=America/New_York:20220924T070000
DTEND;TZID=America/New_York:20220924T130000
DTSTAMP:20260424T145334
CREATED:20220613T212306Z
LAST-MODIFIED:20220613T212306Z
UID:1560-1664002800-1664024400@tcriders.com
SUMMARY:Trail Brushing #4
DESCRIPTION:Hello to everyone and Happy Summer.  I know it’s a strange time to be thinking of trail work but we have lots to do this year. \nWe are planning 4 Saturday Trail Brushing events to clear trail areas that have been identified as needing some love. \nThe club equipment can comfortably take a total of 6 people (8 if we have little people).  If you want to use your own 4 wheeler meet us at the barn. \nSeptember 24th at 8:00 am we will meet at the barn.  Area will be determined by what remains to be brushed. \nIf interested call John Pavelock @ (315) 430-7027
URL:https://tcriders.com/event/trail-brushing-4
LOCATION:10644 Wolcott Hill Road\, 10644 Wolcott Hill Road\, Camden\, NY\, 13316\, United States
END:VEVENT
BEGIN:VEVENT
DTSTART;TZID=America/New_York:20220906T180000
DTEND;TZID=America/New_York:20220906T193000
DTSTAMP:20260424T145334
CREATED:20220613T212729Z
LAST-MODIFIED:20220613T212729Z
UID:1564-1662487200-1662492600@tcriders.com
SUMMARY:September 2022 Board of Director's Meeting
DESCRIPTION:The Board of Director’s meeting is held at the Camden American Legion Post 66. \nMeetings are the first Tuesday of each month.  Meeting begins at 7:00 pm. \nAll Club members are welcome to attend.  
URL:https://tcriders.com/event/september-2022-board-of-directors-meeting
LOCATION:American Legion Arthur S. Moran Post 66\, 2422 Moran Post Road\, Camden\, NY\, 13316\, United States
END:VEVENT
BEGIN:VEVENT
DTSTART;TZID=America/New_York:20220820T070000
DTEND;TZID=America/New_York:20220820T130000
DTSTAMP:20260424T145334
CREATED:20220613T211652Z
LAST-MODIFIED:20220613T211652Z
UID:1558-1660978800-1661000400@tcriders.com
SUMMARY:Trail Brushing #3
DESCRIPTION:Hello to everyone and Happy Summer.  I know it’s a strange time to be thinking of trail work but we have lots to do this year. \nWe are planning 4 Saturday Trail Brushing events to clear trail areas that have been identified as needing some love. \nThe club equipment can comfortably take a total of 6 people (8 if we have little people).  If you want to use your own 4 wheeler meet us at the barn. \nAugust 20th at 8:00 am we will meet at the barn.  That day we will be working on the stretch from Wolcott Hill Road to the Legion. \nIf interested call John Pavelock @ (315) 430-7027
URL:https://tcriders.com/event/trail-brushing-3
LOCATION:10644 Wolcott Hill Road\, 10644 Wolcott Hill Road\, Camden\, NY\, 13316\, United States
END:VEVENT
BEGIN:VEVENT
DTSTART;TZID=America/New_York:20220723T070000
DTEND;TZID=America/New_York:20220723T130000
DTSTAMP:20260424T145334
CREATED:20220613T211300Z
LAST-MODIFIED:20220613T211433Z
UID:1553-1658559600-1658581200@tcriders.com
SUMMARY:Trail Brushing Week-end #2
DESCRIPTION:Hello to everyone and Happy Summer.  I know it’s a strange time to be thinking of trail work but we have lots to do this year. \nWe are planning 4 Saturday Trail Brushing events to clear trail areas that have been identified as needing some love. \nThe club equipment can comfortably take a total of 6 people (8 if we have little people).  If you want to use your own 4 wheeler meet us at the barn. \nJuly 23rd at 8:00 am we will meet at the barn.  That day we will be working on the N. Amboy Railbed to connection with Kasoag\, \nIf interested call John Pavelock @ (315) 430-7027
URL:https://tcriders.com/event/terail-brushing-week-end-2
LOCATION:10644 Wolcott Hill Road\, 10644 Wolcott Hill Road\, Camden\, NY\, 13316\, United States
END:VEVENT
BEGIN:VEVENT
DTSTART;TZID=America/New_York:20220625T070000
DTEND;TZID=America/New_York:20220625T130000
DTSTAMP:20260424T145334
CREATED:20220613T211044Z
LAST-MODIFIED:20220613T211044Z
UID:1551-1656140400-1656162000@tcriders.com
SUMMARY:Trail Brushing Week-ends
DESCRIPTION:Hello to everyone and Happy Summer.  I know it’s a strange time to be thinking of trail work but we have lots to do this year. \nWe are planning 4 Saturday Trail Brushing events to clear trail areas that have been identified as needing some love. \nThe club equipment can comfortably take a total of 6 people (8 if we have little people).  If you want to use your own 4 wheeler meet us at the barn. \nJune 25th at 8:00 am we will meet at the barn.  That day we will be working on the Mulcoy Bypass out to Johnny Smith’s Pond\, \nIf interested call John Pavelock @ (315) 430-7027
URL:https://tcriders.com/event/trail-brushing-week-ends
LOCATION:10644 Wolcott Hill Road\, 10644 Wolcott Hill Road\, Camden\, NY\, 13316\, United States
END:VEVENT
BEGIN:VEVENT
DTSTART;TZID=America/New_York:20220620T180000
DTEND;TZID=America/New_York:20220620T190000
DTSTAMP:20260424T145334
CREATED:20220613T212252Z
LAST-MODIFIED:20220613T212252Z
UID:1562-1655748000-1655751600@tcriders.com
SUMMARY:June Board of Director's Meeting
DESCRIPTION:The Board of Director’s meeting for June will be held at the club barn. \nThis is a emergency meeting to approve funding and receive an update for trail reroutes \nMeetings are the first Tuesday of each month.  Meeting begins at 7:00 pm. \nAll Club members are welcome to attend.  
URL:https://tcriders.com/event/june-board-of-directors-meeting
LOCATION:10644 Wolcott Hill Road\, 10644 Wolcott Hill Road\, Camden\, NY\, 13316\, United States
END:VEVENT
BEGIN:VEVENT
DTSTART;TZID=America/New_York:20220503T180000
DTEND;TZID=America/New_York:20220503T193000
DTSTAMP:20260424T145334
CREATED:20220417T121956Z
LAST-MODIFIED:20220417T121956Z
UID:1530-1651600800-1651606200@tcriders.com
SUMMARY:May 2022 Board of Director's Meeting
DESCRIPTION:The Board of Director’s meeting is held at the Camden American Legion Post 66. \nMeetings are the first Tuesday of each month.  Meeting begins at 7:00 pm. \nAll Club members are welcome to attend.  
URL:https://tcriders.com/event/may-2022-board-of-directors-meeting
LOCATION:American Legion Arthur S. Moran Post 66\, 2422 Moran Post Road\, Camden\, NY\, 13316\, United States
END:VEVENT
BEGIN:VEVENT
DTSTART;VALUE=DATE:20220430
DTEND;VALUE=DATE:20220601
DTSTAMP:20260424T145334
CREATED:20220417T123245Z
LAST-MODIFIED:20220417T123301Z
UID:1532-1651359600-1654037999@tcriders.com
SUMMARY:2022 Spring Raffle
DESCRIPTION:The TC Riders Spring Gun/Gift Card or Cash Fund Raiser will begin on 01 May 2022. \n31 days of chances to win.  Tickets are $20.00. \nWinning numbers are based on the NYS Lottery Daily Evening numbers. \nFor tickets contact tcriders@tcrider.com or call Jack (315) 430-6145 or Donna (315) 245-1487. \nFall 2022 Fund Raiser tickets will be available this summer.
URL:https://tcriders.com/event/2022-spring-raffle
LOCATION:NY
END:VEVENT
BEGIN:VEVENT
DTSTART;TZID=America/New_York:20220405T180000
DTEND;TZID=America/New_York:20220405T193000
DTSTAMP:20260424T145334
CREATED:20211107T141853Z
LAST-MODIFIED:20211107T141853Z
UID:1334-1649181600-1649187000@tcriders.com
SUMMARY:April Board of Director's Meeting
DESCRIPTION:The Board of Director’s meeting is held at the Camden American Legion Post 66. \nMeetings are the first Tuesday of each month.  Meeting begins at 7:00 pm. \nAll Club members are welcome to attend.  
URL:https://tcriders.com/event/april-board-of-directors-meeting
LOCATION:American Legion Arthur S. Moran Post 66\, 2422 Moran Post Road\, Camden\, NY\, 13316\, United States
END:VEVENT
BEGIN:VEVENT
DTSTART;TZID=America/New_York:20220309T180000
DTEND;TZID=America/New_York:20220309T193000
DTSTAMP:20260424T145334
CREATED:20211106T155531Z
LAST-MODIFIED:20211106T155531Z
UID:1319-1646848800-1646854200@tcriders.com
SUMMARY:TC Riders Annual Meeting and Officer Elections
DESCRIPTION:The 2022 TC Riders Annual Meeting and Elections will be held at the 1799 Eatery and Inn. \nMeeting time is 7:00 pm.  Meeting is open to all members of TC Riders Snowmobile Club. \nAll members are eligible to vote in the annual elections. \n 
URL:https://tcriders.com/event/tc-riders-annual-meeting-and-officer-elections
LOCATION:The 1799 Eatery & Inn\, 9501 State Route 13\, Camden\, NY\, 13316\, United States
END:VEVENT
BEGIN:VEVENT
DTSTART;TZID=America/New_York:20220220T103000
DTEND;TZID=America/New_York:20220220T140000
DTSTAMP:20260424T145334
CREATED:20211107T142614Z
LAST-MODIFIED:20211107T142614Z
UID:1336-1645353000-1645365600@tcriders.com
SUMMARY:Groomer Day 2022
DESCRIPTION:TC Riders Snowmobile Club and The Arthur S. Moran American Legion Post 66 will host a Groomer Day event on Sunday February 20th 2022 at the Legion Post (Snow Permitting).  \nThe event is to allow the snowmobiling community and public to meet the groomer operators and experience first hand what it is like to ride in a groomer.  \nCome out and meet the Groomers! Get to see first hand how the trails are smoothed and prepared for safe and enjoyable riding experience. There will be fun and special’s. \n 
URL:https://tcriders.com/event/groomer-day-2022-2
LOCATION:American Legion Arthur S. Moran Post 66\, 2422 Moran Post Road\, Camden\, NY\, 13316\, United States
END:VEVENT
BEGIN:VEVENT
DTSTART;TZID=America/New_York:20220201T180000
DTEND;TZID=America/New_York:20220201T193000
DTSTAMP:20260424T145334
CREATED:20211107T141736Z
LAST-MODIFIED:20211107T141736Z
UID:1332-1643738400-1643743800@tcriders.com
SUMMARY:February Board of Director's Meeting
DESCRIPTION:The Board of Director’s meeting is held at the Camden American Legion Post 66. \nMeetings are the first Tuesday of each month.  Meeting begins at 7:00 pm. \nAll Club members are welcome to attend.  
URL:https://tcriders.com/event/february-board-of-directors-meeting
LOCATION:American Legion Arthur S. Moran Post 66\, 2422 Moran Post Road\, Camden\, NY\, 13316\, United States
END:VEVENT
BEGIN:VEVENT
DTSTART;TZID=America/New_York:20220128T110000
DTEND;TZID=America/New_York:20220205T200000
DTSTAMP:20260424T145334
CREATED:20211106T153541Z
LAST-MODIFIED:20220130T182507Z
UID:1311-1643367600-1644091200@tcriders.com
SUMMARY:TC Riders Poker Run
DESCRIPTION:TC Riders annual Poker Run will take place from January 28th\, 2022 to February 5th\, 2022. \nPoker Stamp Cards will be available from any Sponsors.  Poker hands will be drawn at the Grape & Grog on February 5th\, 2022 from 6:00 pm to 9:00 pm. \nParticipating Sponsors: \n The Station – Oswego Street             Osceola Hotel               Rusty Roof \nCheese Factory Bar & Grill                 Florence Hotel              Kasoag Lake \nBucks Family Restaurant                    Cedar Pines                  Grape & Grog \nThe Gathering Place                            The Good Life               Hay Loft \nCamden American Legion                    Redfield Square           Mahogany Ridge                     \n 
URL:https://tcriders.com/event/tc-riders-poker-run
LOCATION:Grape N Grog\, 85 Taberg St\, Camden\, NY\, 13316\, United States
END:VEVENT
BEGIN:VEVENT
DTSTART;TZID=America/New_York:20220116T103000
DTEND;TZID=America/New_York:20220116T140000
DTSTAMP:20260424T145334
CREATED:20211106T152628Z
LAST-MODIFIED:20220108T185206Z
UID:1302-1642329000-1642341600@tcriders.com
SUMMARY:Groomer Day 2022
DESCRIPTION:TC Riders Snowmobile Club and The Allen’s Florence Hotel will host a Groomer Day event on Sunday January 17th 2022 at the Florence Hotel (Snow Permitting). \nThe event is to allow the snowmobiling community and public to meet the groomer operators and experience first hand what it is like to ride in a groomer. \nCome out and meet the Groomers! Get to see first hand how the trails are smoothed and prepared for safe and enjoyable riding experience. There will be fun and special’s.
URL:https://tcriders.com/event/groomer-day-2022
LOCATION:Allen’s Florence Hotel\, 11940 Osceola Road\, Camden\, NY\, 13316\, United States
CATEGORIES:Club Interaction
END:VEVENT
BEGIN:VEVENT
DTSTART;TZID=America/New_York:20220104T180000
DTEND;TZID=America/New_York:20220104T193000
DTSTAMP:20260424T145334
CREATED:20211107T141536Z
LAST-MODIFIED:20211107T141536Z
UID:1330-1641319200-1641324600@tcriders.com
SUMMARY:January Board of Director's Meeting
DESCRIPTION:The Board of Director’s meeting is held at the Camden American Legion Post 66. \nMeetings are the first Tuesday of each month.  Meeting begins at 7:00 pm. \nAll Club members are welcome to attend.  
URL:https://tcriders.com/event/january-board-of-directors-meeting
LOCATION:American Legion Arthur S. Moran Post 66\, 2422 Moran Post Road\, Camden\, NY\, 13316\, United States
END:VEVENT
BEGIN:VEVENT
DTSTART;TZID=America/New_York:20211211T080000
DTEND;TZID=America/New_York:20211211T160000
DTSTAMP:20260424T145334
CREATED:20211106T153841Z
LAST-MODIFIED:20211106T154450Z
UID:1298-1639209600-1639238400@tcriders.com
SUMMARY:Public Youth Education and Safety Class
DESCRIPTION:Annual Youth Safety Training for Snowmobile use. \nPre-Registration required Class size is limited. \nPlease contact  (315) 245-3364 for additional details.
URL:https://tcriders.com/event/public-youth-education-and-safety-class
LOCATION:10644 Wolcott Hill Road\, 10644 Wolcott Hill Road\, Camden\, NY\, 13316\, United States
CATEGORIES:Sport Education
END:VEVENT
BEGIN:VEVENT
DTSTART;TZID=America/New_York:20211207T180000
DTEND;TZID=America/New_York:20211207T193000
DTSTAMP:20260424T145334
CREATED:20211107T141404Z
LAST-MODIFIED:20211107T141404Z
UID:1326-1638900000-1638905400@tcriders.com
SUMMARY:December Board of Director's Meeting
DESCRIPTION:The Board of Director’s meeting is held at the Camden American Legion Post 66. \nMeetings are the first Tuesday of each month.  Meeting begins at 7:00 pm. \nAll Club members are welcome to attend.   \n 
URL:https://tcriders.com/event/december-board-of-directors-meeting
LOCATION:American Legion Arthur S. Moran Post 66\, 2422 Moran Post Road\, Camden\, NY\, 13316\, United States
END:VEVENT
BEGIN:VEVENT
DTSTART;TZID=America/New_York:20201006T180000
DTEND;TZID=America/New_York:20201006T193000
DTSTAMP:20260424T145334
CREATED:20200912T161832Z
LAST-MODIFIED:20200912T161832Z
UID:1165-1602007200-1602012600@tcriders.com
SUMMARY:Monthly BOD Meeting - October 6th 2020
DESCRIPTION:This is the regular monthly Board of Directors (BOD) meeting.\nMeetings are open to registered members.
URL:https://tcriders.com/event/monthly-bod-meeting-october-6th-2020
LOCATION:NY
END:VEVENT
BEGIN:VEVENT
DTSTART;TZID=America/New_York:20191203T180000
DTEND;TZID=America/New_York:20191203T200000
DTSTAMP:20260424T145334
CREATED:20191106T161222Z
LAST-MODIFIED:20191106T161227Z
UID:766-1575396000-1575403200@tcriders.com
SUMMARY:Monthly BOD Meeting - December 2019
DESCRIPTION:Next planned iteration of the monthly board of directors meeting
URL:https://tcriders.com/event/monthly-bod-meeting-december-2019
LOCATION:Community Bank\, N.A.\, 41 Harden Blvd\, Camden\, NY\, 13316\, United States
ORGANIZER;CN="Darlene Haflett":MAILTO:dhaflett@yahoo.com
END:VEVENT
BEGIN:VEVENT
DTSTART;TZID=America/New_York:20191019T123000
DTEND;TZID=America/New_York:20191019T150000
DTSTAMP:20260424T145334
CREATED:20190828T164639Z
LAST-MODIFIED:20191001T101903Z
UID:54-1571488200-1571497200@tcriders.com
SUMMARY:Landowners Appreciation Dinner
DESCRIPTION:T.C. Riders Snowmobile Club Annual Landowner Appreciation Dinner will be held on Saturday\, October 19\, 2019. \nThe Landowner Dinner is always a fun time and gives our club the opportunity to recognize landowners — our MOST VALUABLE ASSET. \nBuffer will include: \n\nRoast Pork\, Chicken Breast w/Broccoli & Cream Sauce\nHot Sliced Top Round in Red Wine Sauce\nVirginia Baked Ham w/Cherry & Pineapple Glaze\nScalloped Potatoes and Mashed Potatoes w/Gravy\nTossed Salad\, Rolls & Butter\nCoffee\, Tea and Milk\nDessert\nCash Bar\n\n  \nPlease take a moment to RSVP No Later Than Sunday\, October 6\, 2019. \nMembers who plan on attending MUST also pre-register by either calling or text Art Crossman @ (315) 225-0936 or email @ Studebakerman40@yahoo.com. \nWhen leaving a message or responding via email\, please include: Name\, Number of People Attending and your Phone Number.
URL:https://tcriders.com/event/landowners-appreciation-dinner
LOCATION:Grape N Grog\, 85 Taberg St\, Camden\, NY\, 13316\, United States
ORGANIZER;CN="Art Crossman":MAILTO:Studebakerman40@yahoo.com
END:VEVENT
END:VCALENDAR